BEGIN:VCALENDAR
VERSION:2.0
PRODID:-//Tukios.com/
BEGIN:VEVENT
UID:bce9dec6-4a79-4eff-8089-3ba1e4871109@www.carterfh.com
DTSTAMP:20260420T173411Z
DTSTART:20260421T230000Z
DTEND:20260422T000000Z
SUMMARY:Graveside Service
DESCRIPTION:
URL:https://www.carterfh.com/obituaries/emily-andrews
LOCATION:Harrells Cemetery   Ward Road  Harrells NC 28444
GEO:34.7330152;-78.2029375
END:VEVENT
END:VCALENDAR